BEGIN:VCALENDAR
VERSION:2.0
PRODID:-//Tukios.com/
BEGIN:VEVENT
UID:ebe1a920-a28b-405f-b4eb-dacae5fe57e9@www.guinyardfuneralhome.com
DTSTAMP:20260421T062640Z
DTSTART:20260425T170000Z
DTEND:20260425T180000Z
SUMMARY:Memorial Service
DESCRIPTION:
URL:https://www.guinyardfuneralhome.com/obituaries/rose-jones-mckethan
LOCATION: 2757 SC-70  Barnwell SC 29812
GEO:33.2620944;-81.3265343
END:VEVENT
END:VCALENDAR