BEGIN:VCALENDAR
VERSION:2.0
PRODID:-//Tukios.com/
BEGIN:VEVENT
UID:5569645e-0e64-4266-afd0-ef2ea4039293@www.guinyardfuneralhome.com
DTSTAMP:20260421T062640Z
DTSTART:20260425T180000Z
DTEND:20260425T190000Z
SUMMARY:Burial
DESCRIPTION:
URL:https://www.guinyardfuneralhome.com/obituaries/rose-jones-mckethan
LOCATION: 1730 Yale Rd  Barnwell SC 29812
GEO:33.2821287;-81.3382913
END:VEVENT
END:VCALENDAR